BEGIN:VCALENDAR
VERSION:2.0
PRODID:-//WP EVENT Manager Ical//NONSGML Events //EN
CALSCALE:GREGORIAN

BEGIN:VEVENT

DTSTART:20241117T040000AMZ
DTEND:20241117T080000AMZ
LOCATION:Online
SUMMARY:Garmin Run 2024
DESCRIPTION:Garmin Run 2024November 17, 2024


END:VEVENT
END:VCALENDAR
    