BEGIN:VCALENDAR
VERSION:2.0
PRODID:-//WP EVENT Manager Ical//NONSGML Events //EN
CALSCALE:GREGORIAN

BEGIN:VEVENT

DTSTART:20240630T043000AMZ
DTEND:20240630T080000AMZ
LOCATION:Vermosa, Imus, Cavite
SUMMARY:The Green Run Year 3
DESCRIPTION:Mark your calendars for The Green Run Year 3! This year, we’re tripling the excitement and impact as we embrace a greener lifestyle, focus on fitness, and support important causes.Join us in 2024 with your family, friends, and beloved pets for a race that not only challenges you physically but also contributes to the development of young athletes, environmental conservation, and animal welfare. Don’t miss this opportunity to make a difference while enjoying a fun and healthy activity!The Green RunJune 30, 2024Vermosa, Imus Cavite1K|3K|5K|21KOrganizer: PF and Pepsquad EventsGet updates via FB – https://www.facebook.com/events/403385465639076/&nbsp;Registration Fees: 1K Dog Run – P700 | P7503K & 5K – P1250 | 135010K – P1350 | 145021K – P1750 | 1850Race Bib with RFID Tag, Race Shirt, Finisher Medal21K Finisher Shirt, 21K Finisher MedalPrice is exclusive of P50 Web Admin FeeGun Start:21K – 4:30AM10K – 5:00AM5K & 3K – 5:30AM1K – 7:00AMRegistration Venue:1. Register Online via – https://ayalaland.myruntime.com/register


END:VEVENT
END:VCALENDAR
    