BEGIN:VCALENDAR
VERSION:2.0
PRODID:-//WP EVENT Manager Ical//NONSGML Events //EN
CALSCALE:GREGORIAN

BEGIN:VEVENT

DTSTART:19700101T000000AMZ
DTEND:19700101T000000AMZ
LOCATION:Online
SUMMARY:Autism Awareness – Heroes Run
DESCRIPTION:ONSITE REGISTRATION !Here it is Runners come,visit,and register to the most memorable Run for a Cause event!What: onsite registrationWhen: April 14-16 & April 19-22 (10am-5pm)Where: Fort Santiago,Intramuros ManilaBe there!Online Registrationnis still open…Click the link: https://forms.gle/ojzhY3yL363YsULj6SpectrumHeroesRunWearYourHeroColors #RunForInclusionAwarenessInEveryMile #InclusionInEveryStep #RunForAutism


END:VEVENT
END:VCALENDAR
    